BEGIN:VCALENDAR
VERSION:2.0
PRODID:-//Cottonwood Creek Church - ECPv6.15.18//NONSGML v1.0//EN
CALSCALE:GREGORIAN
METHOD:PUBLISH
X-ORIGINAL-URL:https://cottonwoodcreek.org
X-WR-CALDESC:Events for Cottonwood Creek Church
REFRESH-INTERVAL;VALUE=DURATION:PT1H
X-Robots-Tag:noindex
X-PUBLISHED-TTL:PT1H
BEGIN:VTIMEZONE
TZID:America/Chicago
BEGIN:DAYLIGHT
TZOFFSETFROM:-0600
TZOFFSETTO:-0500
TZNAME:CDT
DTSTART:20250309T080000
END:DAYLIGHT
BEGIN:STANDARD
TZOFFSETFROM:-0500
TZOFFSETTO:-0600
TZNAME:CST
DTSTART:20251102T070000
END:STANDARD
BEGIN:DAYLIGHT
TZOFFSETFROM:-0600
TZOFFSETTO:-0500
TZNAME:CDT
DTSTART:20260308T080000
END:DAYLIGHT
BEGIN:STANDARD
TZOFFSETFROM:-0500
TZOFFSETTO:-0600
TZNAME:CST
DTSTART:20261101T070000
END:STANDARD
BEGIN:DAYLIGHT
TZOFFSETFROM:-0600
TZOFFSETTO:-0500
TZNAME:CDT
DTSTART:20270314T080000
END:DAYLIGHT
BEGIN:STANDARD
TZOFFSETFROM:-0500
TZOFFSETTO:-0600
TZNAME:CST
DTSTART:20271107T070000
END:STANDARD
END:VTIMEZONE
BEGIN:VEVENT
DTSTART;TZID=America/Chicago:20260602T190000
DTEND;TZID=America/Chicago:20260602T200000
DTSTAMP:20260419T113330
CREATED:20260115T194150Z
LAST-MODIFIED:20260115T194150Z
UID:10011458-1780426800-1780430400@cottonwoodcreek.org
SUMMARY:College and Young Adult Service
DESCRIPTION:If you are looking for a place to connect with other young adults\, the College and Young Adult Service is for you! \nThe College and Young Adult Service happens every Tuesday night at 7 p.m. for young adults in our area to build community through discussion\, worship\, and fun! \nText YOUNGADULTS to 77978 for updates and reminders.
URL:https://cottonwoodcreek.org/event/college-and-young-adult-service/2026-06-02/
LOCATION:Creek Student Building
CATEGORIES:Young Adults
ATTACH;FMTTYPE=image/jpeg:https://cottonwoodcreek.org/wp-content/uploads/2024/02/713_Announcement-Slide_v4.jpg
ORGANIZER;CN="Jake Bechtold":MAILTO:jake.bechtold@cottonwoodcreek.org
END:VEVENT
BEGIN:VEVENT
DTSTART;TZID=America/Chicago:20260609T190000
DTEND;TZID=America/Chicago:20260609T200000
DTSTAMP:20260419T113330
CREATED:20260115T194150Z
LAST-MODIFIED:20260115T194150Z
UID:10011459-1781031600-1781035200@cottonwoodcreek.org
SUMMARY:College and Young Adult Service
DESCRIPTION:If you are looking for a place to connect with other young adults\, the College and Young Adult Service is for you! \nThe College and Young Adult Service happens every Tuesday night at 7 p.m. for young adults in our area to build community through discussion\, worship\, and fun! \nText YOUNGADULTS to 77978 for updates and reminders.
URL:https://cottonwoodcreek.org/event/college-and-young-adult-service/2026-06-09/
LOCATION:Creek Student Building
CATEGORIES:Young Adults
ATTACH;FMTTYPE=image/jpeg:https://cottonwoodcreek.org/wp-content/uploads/2024/02/713_Announcement-Slide_v4.jpg
ORGANIZER;CN="Jake Bechtold":MAILTO:jake.bechtold@cottonwoodcreek.org
END:VEVENT
BEGIN:VEVENT
DTSTART;TZID=America/Chicago:20260616T190000
DTEND;TZID=America/Chicago:20260616T200000
DTSTAMP:20260419T113330
CREATED:20260115T194150Z
LAST-MODIFIED:20260115T194150Z
UID:10011460-1781636400-1781640000@cottonwoodcreek.org
SUMMARY:College and Young Adult Service
DESCRIPTION:If you are looking for a place to connect with other young adults\, the College and Young Adult Service is for you! \nThe College and Young Adult Service happens every Tuesday night at 7 p.m. for young adults in our area to build community through discussion\, worship\, and fun! \nText YOUNGADULTS to 77978 for updates and reminders.
URL:https://cottonwoodcreek.org/event/college-and-young-adult-service/2026-06-16/
LOCATION:Creek Student Building
CATEGORIES:Young Adults
ATTACH;FMTTYPE=image/jpeg:https://cottonwoodcreek.org/wp-content/uploads/2024/02/713_Announcement-Slide_v4.jpg
ORGANIZER;CN="Jake Bechtold":MAILTO:jake.bechtold@cottonwoodcreek.org
END:VEVENT
BEGIN:VEVENT
DTSTART;TZID=America/Chicago:20260623T190000
DTEND;TZID=America/Chicago:20260623T200000
DTSTAMP:20260419T113330
CREATED:20260115T194150Z
LAST-MODIFIED:20260115T194150Z
UID:10011461-1782241200-1782244800@cottonwoodcreek.org
SUMMARY:College and Young Adult Service
DESCRIPTION:If you are looking for a place to connect with other young adults\, the College and Young Adult Service is for you! \nThe College and Young Adult Service happens every Tuesday night at 7 p.m. for young adults in our area to build community through discussion\, worship\, and fun! \nText YOUNGADULTS to 77978 for updates and reminders.
URL:https://cottonwoodcreek.org/event/college-and-young-adult-service/2026-06-23/
LOCATION:Creek Student Building
CATEGORIES:Young Adults
ATTACH;FMTTYPE=image/jpeg:https://cottonwoodcreek.org/wp-content/uploads/2024/02/713_Announcement-Slide_v4.jpg
ORGANIZER;CN="Jake Bechtold":MAILTO:jake.bechtold@cottonwoodcreek.org
END:VEVENT
BEGIN:VEVENT
DTSTART;TZID=America/Chicago:20260630T190000
DTEND;TZID=America/Chicago:20260630T200000
DTSTAMP:20260419T113330
CREATED:20260115T194150Z
LAST-MODIFIED:20260115T194150Z
UID:10011462-1782846000-1782849600@cottonwoodcreek.org
SUMMARY:College and Young Adult Service
DESCRIPTION:If you are looking for a place to connect with other young adults\, the College and Young Adult Service is for you! \nThe College and Young Adult Service happens every Tuesday night at 7 p.m. for young adults in our area to build community through discussion\, worship\, and fun! \nText YOUNGADULTS to 77978 for updates and reminders.
URL:https://cottonwoodcreek.org/event/college-and-young-adult-service/2026-06-30/
LOCATION:Creek Student Building
CATEGORIES:Young Adults
ATTACH;FMTTYPE=image/jpeg:https://cottonwoodcreek.org/wp-content/uploads/2024/02/713_Announcement-Slide_v4.jpg
ORGANIZER;CN="Jake Bechtold":MAILTO:jake.bechtold@cottonwoodcreek.org
END:VEVENT
END:VCALENDAR