BEGIN:VCALENDAR
VERSION:2.0
PRODID:-//Cottonwood Creek Church - ECPv6.15.18//NONSGML v1.0//EN
CALSCALE:GREGORIAN
METHOD:PUBLISH
X-ORIGINAL-URL:https://cottonwoodcreek.org
X-WR-CALDESC:Events for Cottonwood Creek Church
REFRESH-INTERVAL;VALUE=DURATION:PT1H
X-Robots-Tag:noindex
X-PUBLISHED-TTL:PT1H
BEGIN:VTIMEZONE
TZID:America/Chicago
BEGIN:DAYLIGHT
TZOFFSETFROM:-0600
TZOFFSETTO:-0500
TZNAME:CDT
DTSTART:20250309T080000
END:DAYLIGHT
BEGIN:STANDARD
TZOFFSETFROM:-0500
TZOFFSETTO:-0600
TZNAME:CST
DTSTART:20251102T070000
END:STANDARD
BEGIN:DAYLIGHT
TZOFFSETFROM:-0600
TZOFFSETTO:-0500
TZNAME:CDT
DTSTART:20260308T080000
END:DAYLIGHT
BEGIN:STANDARD
TZOFFSETFROM:-0500
TZOFFSETTO:-0600
TZNAME:CST
DTSTART:20261101T070000
END:STANDARD
BEGIN:DAYLIGHT
TZOFFSETFROM:-0600
TZOFFSETTO:-0500
TZNAME:CDT
DTSTART:20270314T080000
END:DAYLIGHT
BEGIN:STANDARD
TZOFFSETFROM:-0500
TZOFFSETTO:-0600
TZNAME:CST
DTSTART:20271107T070000
END:STANDARD
END:VTIMEZONE
BEGIN:VEVENT
DTSTART;VALUE=DATE:20260802
DTEND;VALUE=DATE:20260807
DTSTAMP:20260421T113144
CREATED:20260313T034112Z
LAST-MODIFIED:20260402T100703Z
UID:10013550-1785628800-1786060799@cottonwoodcreek.org
SUMMARY:College & Young Adults Retreat
DESCRIPTION:August 2 – 6 | Davis\, Oklahoma | REGISTER  \n🔥 5 Days That Could Change Everything \nLooking for real connection\, a break from the noise\, and time to grow in your faith? Join us for \nYoung Adult Camp 2026—an unforgettable week designed just for YOU. \nWhether you’re coming to grow closer to Jesus\, make new friends\, or just need a reset\, this is \nthe place. \n📍 Location \nDavis\, Oklahoma (Falls Creek Conference Center) \n(Just 2 hours from Allen\, TX) \n💵 Cost \nEarly Bird Price is $280 – includes meals\, lodging\, and all activities ($150 deposit required to save your spot) \nPrice after July 4 increases to $300. \n🙌 What to Expect \n● Powerful Worship \n● Biblical Teaching that Speaks to Real Life \n● Breakout Sessions (Ask real questions\, explore real topics) \n● Volleyball & Basketball Tournaments \n● Hiking + Swimming \n● Late Night Hangs + Concessions \n● Missionary & Seminary Connections \n● And So Much More… \n🎯 Breakout Topics Include: \n● Dating & Relationships \n● Faith + Sexuality \n● Discovering Your Gifts in Ministry \n● Navigating Anxiety \n● …and more \nThese small group sessions are designed to be honest\, interactive\, and centered on truth from \nGod’s Word. \n🌿 Why Come to Camp? \nThis isn’t just a fun getaway (although it definitely is that too). \nIt’s an intentional space to: \n● Grow your relationship with Christ \n● Build meaningful\, lasting friendships \n● Unplug from distractions \n● Experience biblical community \n● Be refreshed—spiritually\, emotionally\, and physically \nWho Can Come? \nIf you’re a young adult\, this camp is for you. Yes—you can bring all your friends. \n📝 Ready to Join Us? \nSpots are limited—Register today!! \nQuestions? Contact Lizza Jimenez at lizza.jimenez@cottonwoodcreek.org
URL:https://cottonwoodcreek.org/event/college-young-adults-retreat/
CATEGORIES:Young Adults
ATTACH;FMTTYPE=image/jpeg:https://cottonwoodcreek.org/wp-content/uploads/2026/03/YA-Ret-26-scaled.jpg
END:VEVENT
BEGIN:VEVENT
DTSTART;TZID=America/Chicago:20260804T190000
DTEND;TZID=America/Chicago:20260804T200000
DTSTAMP:20260421T113144
CREATED:20260115T194150Z
LAST-MODIFIED:20260115T194150Z
UID:10011467-1785870000-1785873600@cottonwoodcreek.org
SUMMARY:College and Young Adult Service
DESCRIPTION:If you are looking for a place to connect with other young adults\, the College and Young Adult Service is for you! \nThe College and Young Adult Service happens every Tuesday night at 7 p.m. for young adults in our area to build community through discussion\, worship\, and fun! \nText YOUNGADULTS to 77978 for updates and reminders.
URL:https://cottonwoodcreek.org/event/college-and-young-adult-service/2026-08-04/
LOCATION:Creek Student Building
CATEGORIES:Young Adults
ATTACH;FMTTYPE=image/jpeg:https://cottonwoodcreek.org/wp-content/uploads/2024/02/713_Announcement-Slide_v4.jpg
ORGANIZER;CN="Jake Bechtold":MAILTO:jake.bechtold@cottonwoodcreek.org
END:VEVENT
BEGIN:VEVENT
DTSTART;TZID=America/Chicago:20260811T190000
DTEND;TZID=America/Chicago:20260811T200000
DTSTAMP:20260421T113144
CREATED:20260115T194150Z
LAST-MODIFIED:20260115T194150Z
UID:10011468-1786474800-1786478400@cottonwoodcreek.org
SUMMARY:College and Young Adult Service
DESCRIPTION:If you are looking for a place to connect with other young adults\, the College and Young Adult Service is for you! \nThe College and Young Adult Service happens every Tuesday night at 7 p.m. for young adults in our area to build community through discussion\, worship\, and fun! \nText YOUNGADULTS to 77978 for updates and reminders.
URL:https://cottonwoodcreek.org/event/college-and-young-adult-service/2026-08-11/
LOCATION:Creek Student Building
CATEGORIES:Young Adults
ATTACH;FMTTYPE=image/jpeg:https://cottonwoodcreek.org/wp-content/uploads/2024/02/713_Announcement-Slide_v4.jpg
ORGANIZER;CN="Jake Bechtold":MAILTO:jake.bechtold@cottonwoodcreek.org
END:VEVENT
BEGIN:VEVENT
DTSTART;TZID=America/Chicago:20260818T190000
DTEND;TZID=America/Chicago:20260818T200000
DTSTAMP:20260421T113144
CREATED:20260115T194150Z
LAST-MODIFIED:20260115T194150Z
UID:10011469-1787079600-1787083200@cottonwoodcreek.org
SUMMARY:College and Young Adult Service
DESCRIPTION:If you are looking for a place to connect with other young adults\, the College and Young Adult Service is for you! \nThe College and Young Adult Service happens every Tuesday night at 7 p.m. for young adults in our area to build community through discussion\, worship\, and fun! \nText YOUNGADULTS to 77978 for updates and reminders.
URL:https://cottonwoodcreek.org/event/college-and-young-adult-service/2026-08-18/
LOCATION:Creek Student Building
CATEGORIES:Young Adults
ATTACH;FMTTYPE=image/jpeg:https://cottonwoodcreek.org/wp-content/uploads/2024/02/713_Announcement-Slide_v4.jpg
ORGANIZER;CN="Jake Bechtold":MAILTO:jake.bechtold@cottonwoodcreek.org
END:VEVENT
BEGIN:VEVENT
DTSTART;TZID=America/Chicago:20260825T190000
DTEND;TZID=America/Chicago:20260825T200000
DTSTAMP:20260421T113144
CREATED:20260115T194150Z
LAST-MODIFIED:20260115T194150Z
UID:10011470-1787684400-1787688000@cottonwoodcreek.org
SUMMARY:College and Young Adult Service
DESCRIPTION:If you are looking for a place to connect with other young adults\, the College and Young Adult Service is for you! \nThe College and Young Adult Service happens every Tuesday night at 7 p.m. for young adults in our area to build community through discussion\, worship\, and fun! \nText YOUNGADULTS to 77978 for updates and reminders.
URL:https://cottonwoodcreek.org/event/college-and-young-adult-service/2026-08-25/
LOCATION:Creek Student Building
CATEGORIES:Young Adults
ATTACH;FMTTYPE=image/jpeg:https://cottonwoodcreek.org/wp-content/uploads/2024/02/713_Announcement-Slide_v4.jpg
ORGANIZER;CN="Jake Bechtold":MAILTO:jake.bechtold@cottonwoodcreek.org
END:VEVENT
END:VCALENDAR