BEGIN:VCALENDAR
VERSION:2.0
PRODID:-//Cottonwood Creek Church - ECPv6.15.18//NONSGML v1.0//EN
CALSCALE:GREGORIAN
METHOD:PUBLISH
X-WR-CALNAME:Cottonwood Creek Church
X-ORIGINAL-URL:https://cottonwoodcreek.org
X-WR-CALDESC:Events for Cottonwood Creek Church
REFRESH-INTERVAL;VALUE=DURATION:PT1H
X-Robots-Tag:noindex
X-PUBLISHED-TTL:PT1H
BEGIN:VTIMEZONE
TZID:America/Chicago
BEGIN:DAYLIGHT
TZOFFSETFROM:-0600
TZOFFSETTO:-0500
TZNAME:CDT
DTSTART:20250309T080000
END:DAYLIGHT
BEGIN:STANDARD
TZOFFSETFROM:-0500
TZOFFSETTO:-0600
TZNAME:CST
DTSTART:20251102T070000
END:STANDARD
BEGIN:DAYLIGHT
TZOFFSETFROM:-0600
TZOFFSETTO:-0500
TZNAME:CDT
DTSTART:20260308T080000
END:DAYLIGHT
BEGIN:STANDARD
TZOFFSETFROM:-0500
TZOFFSETTO:-0600
TZNAME:CST
DTSTART:20261101T070000
END:STANDARD
BEGIN:DAYLIGHT
TZOFFSETFROM:-0600
TZOFFSETTO:-0500
TZNAME:CDT
DTSTART:20270314T080000
END:DAYLIGHT
BEGIN:STANDARD
TZOFFSETFROM:-0500
TZOFFSETTO:-0600
TZNAME:CST
DTSTART:20271107T070000
END:STANDARD
END:VTIMEZONE
BEGIN:VEVENT
DTSTART;TZID=America/Chicago:20261201T190000
DTEND;TZID=America/Chicago:20261201T200000
DTSTAMP:20260421T190758
CREATED:20260115T194150Z
LAST-MODIFIED:20260115T194150Z
UID:10011484-1796151600-1796155200@cottonwoodcreek.org
SUMMARY:College and Young Adult Service
DESCRIPTION:If you are looking for a place to connect with other young adults\, the College and Young Adult Service is for you! \nThe College and Young Adult Service happens every Tuesday night at 7 p.m. for young adults in our area to build community through discussion\, worship\, and fun! \nText YOUNGADULTS to 77978 for updates and reminders.
URL:https://cottonwoodcreek.org/event/college-and-young-adult-service/2026-12-01/
LOCATION:Creek Student Building
CATEGORIES:Young Adults
ATTACH;FMTTYPE=image/jpeg:https://cottonwoodcreek.org/wp-content/uploads/2024/02/713_Announcement-Slide_v4.jpg
ORGANIZER;CN="Jake Bechtold":MAILTO:jake.bechtold@cottonwoodcreek.org
END:VEVENT
BEGIN:VEVENT
DTSTART;TZID=America/Chicago:20261208T190000
DTEND;TZID=America/Chicago:20261208T200000
DTSTAMP:20260421T190758
CREATED:20260115T194150Z
LAST-MODIFIED:20260115T194150Z
UID:10011485-1796756400-1796760000@cottonwoodcreek.org
SUMMARY:College and Young Adult Service
DESCRIPTION:If you are looking for a place to connect with other young adults\, the College and Young Adult Service is for you! \nThe College and Young Adult Service happens every Tuesday night at 7 p.m. for young adults in our area to build community through discussion\, worship\, and fun! \nText YOUNGADULTS to 77978 for updates and reminders.
URL:https://cottonwoodcreek.org/event/college-and-young-adult-service/2026-12-08/
LOCATION:Creek Student Building
CATEGORIES:Young Adults
ATTACH;FMTTYPE=image/jpeg:https://cottonwoodcreek.org/wp-content/uploads/2024/02/713_Announcement-Slide_v4.jpg
ORGANIZER;CN="Jake Bechtold":MAILTO:jake.bechtold@cottonwoodcreek.org
END:VEVENT
BEGIN:VEVENT
DTSTART;TZID=America/Chicago:20261215T190000
DTEND;TZID=America/Chicago:20261215T200000
DTSTAMP:20260421T190758
CREATED:20260115T194150Z
LAST-MODIFIED:20260115T194150Z
UID:10011486-1797361200-1797364800@cottonwoodcreek.org
SUMMARY:College and Young Adult Service
DESCRIPTION:If you are looking for a place to connect with other young adults\, the College and Young Adult Service is for you! \nThe College and Young Adult Service happens every Tuesday night at 7 p.m. for young adults in our area to build community through discussion\, worship\, and fun! \nText YOUNGADULTS to 77978 for updates and reminders.
URL:https://cottonwoodcreek.org/event/college-and-young-adult-service/2026-12-15/
LOCATION:Creek Student Building
CATEGORIES:Young Adults
ATTACH;FMTTYPE=image/jpeg:https://cottonwoodcreek.org/wp-content/uploads/2024/02/713_Announcement-Slide_v4.jpg
ORGANIZER;CN="Jake Bechtold":MAILTO:jake.bechtold@cottonwoodcreek.org
END:VEVENT
BEGIN:VEVENT
DTSTART;TZID=America/Chicago:20261222T190000
DTEND;TZID=America/Chicago:20261222T200000
DTSTAMP:20260421T190758
CREATED:20260115T194150Z
LAST-MODIFIED:20260115T194150Z
UID:10011487-1797966000-1797969600@cottonwoodcreek.org
SUMMARY:College and Young Adult Service
DESCRIPTION:If you are looking for a place to connect with other young adults\, the College and Young Adult Service is for you! \nThe College and Young Adult Service happens every Tuesday night at 7 p.m. for young adults in our area to build community through discussion\, worship\, and fun! \nText YOUNGADULTS to 77978 for updates and reminders.
URL:https://cottonwoodcreek.org/event/college-and-young-adult-service/2026-12-22/
LOCATION:Creek Student Building
CATEGORIES:Young Adults
ATTACH;FMTTYPE=image/jpeg:https://cottonwoodcreek.org/wp-content/uploads/2024/02/713_Announcement-Slide_v4.jpg
ORGANIZER;CN="Jake Bechtold":MAILTO:jake.bechtold@cottonwoodcreek.org
END:VEVENT
BEGIN:VEVENT
DTSTART;TZID=America/Chicago:20261229T190000
DTEND;TZID=America/Chicago:20261229T200000
DTSTAMP:20260421T190758
CREATED:20260115T194150Z
LAST-MODIFIED:20260115T194150Z
UID:10011488-1798570800-1798574400@cottonwoodcreek.org
SUMMARY:College and Young Adult Service
DESCRIPTION:If you are looking for a place to connect with other young adults\, the College and Young Adult Service is for you! \nThe College and Young Adult Service happens every Tuesday night at 7 p.m. for young adults in our area to build community through discussion\, worship\, and fun! \nText YOUNGADULTS to 77978 for updates and reminders.
URL:https://cottonwoodcreek.org/event/college-and-young-adult-service/2026-12-29/
LOCATION:Creek Student Building
CATEGORIES:Young Adults
ATTACH;FMTTYPE=image/jpeg:https://cottonwoodcreek.org/wp-content/uploads/2024/02/713_Announcement-Slide_v4.jpg
ORGANIZER;CN="Jake Bechtold":MAILTO:jake.bechtold@cottonwoodcreek.org
END:VEVENT
END:VCALENDAR