BEGIN:VCALENDAR
VERSION:2.0
PRODID:-//Cottonwood Creek Church - ECPv6.15.18//NONSGML v1.0//EN
CALSCALE:GREGORIAN
METHOD:PUBLISH
X-WR-CALNAME:Cottonwood Creek Church
X-ORIGINAL-URL:https://cottonwoodcreek.org
X-WR-CALDESC:Events for Cottonwood Creek Church
REFRESH-INTERVAL;VALUE=DURATION:PT1H
X-Robots-Tag:noindex
X-PUBLISHED-TTL:PT1H
BEGIN:VTIMEZONE
TZID:America/Chicago
BEGIN:DAYLIGHT
TZOFFSETFROM:-0600
TZOFFSETTO:-0500
TZNAME:CDT
DTSTART:20260308T080000
END:DAYLIGHT
BEGIN:STANDARD
TZOFFSETFROM:-0500
TZOFFSETTO:-0600
TZNAME:CST
DTSTART:20261101T070000
END:STANDARD
BEGIN:DAYLIGHT
TZOFFSETFROM:-0600
TZOFFSETTO:-0500
TZNAME:CDT
DTSTART:20270314T080000
END:DAYLIGHT
BEGIN:STANDARD
TZOFFSETFROM:-0500
TZOFFSETTO:-0600
TZNAME:CST
DTSTART:20271107T070000
END:STANDARD
BEGIN:DAYLIGHT
TZOFFSETFROM:-0600
TZOFFSETTO:-0500
TZNAME:CDT
DTSTART:20280312T080000
END:DAYLIGHT
BEGIN:STANDARD
TZOFFSETFROM:-0500
TZOFFSETTO:-0600
TZNAME:CST
DTSTART:20281105T070000
END:STANDARD
END:VTIMEZONE
BEGIN:VEVENT
DTSTART;TZID=America/Chicago:20270302T190000
DTEND;TZID=America/Chicago:20270302T200000
DTSTAMP:20260424T075734
CREATED:20260115T194150Z
LAST-MODIFIED:20260115T194150Z
UID:10011497-1804014000-1804017600@cottonwoodcreek.org
SUMMARY:College and Young Adult Service
DESCRIPTION:If you are looking for a place to connect with other young adults\, the College and Young Adult Service is for you! \nThe College and Young Adult Service happens every Tuesday night at 7 p.m. for young adults in our area to build community through discussion\, worship\, and fun! \nText YOUNGADULTS to 77978 for updates and reminders.
URL:https://cottonwoodcreek.org/event/college-and-young-adult-service/2027-03-02/
LOCATION:Creek Student Building
CATEGORIES:Young Adults
ATTACH;FMTTYPE=image/jpeg:https://cottonwoodcreek.org/wp-content/uploads/2024/02/713_Announcement-Slide_v4.jpg
ORGANIZER;CN="Jake Bechtold":MAILTO:jake.bechtold@cottonwoodcreek.org
END:VEVENT
BEGIN:VEVENT
DTSTART;TZID=America/Chicago:20270309T190000
DTEND;TZID=America/Chicago:20270309T200000
DTSTAMP:20260424T075734
CREATED:20260115T194150Z
LAST-MODIFIED:20260115T194150Z
UID:10011498-1804618800-1804622400@cottonwoodcreek.org
SUMMARY:College and Young Adult Service
DESCRIPTION:If you are looking for a place to connect with other young adults\, the College and Young Adult Service is for you! \nThe College and Young Adult Service happens every Tuesday night at 7 p.m. for young adults in our area to build community through discussion\, worship\, and fun! \nText YOUNGADULTS to 77978 for updates and reminders.
URL:https://cottonwoodcreek.org/event/college-and-young-adult-service/2027-03-09/
LOCATION:Creek Student Building
CATEGORIES:Young Adults
ATTACH;FMTTYPE=image/jpeg:https://cottonwoodcreek.org/wp-content/uploads/2024/02/713_Announcement-Slide_v4.jpg
ORGANIZER;CN="Jake Bechtold":MAILTO:jake.bechtold@cottonwoodcreek.org
END:VEVENT
BEGIN:VEVENT
DTSTART;TZID=America/Chicago:20270316T190000
DTEND;TZID=America/Chicago:20270316T200000
DTSTAMP:20260424T075734
CREATED:20260115T194150Z
LAST-MODIFIED:20260115T194150Z
UID:10011499-1805223600-1805227200@cottonwoodcreek.org
SUMMARY:College and Young Adult Service
DESCRIPTION:If you are looking for a place to connect with other young adults\, the College and Young Adult Service is for you! \nThe College and Young Adult Service happens every Tuesday night at 7 p.m. for young adults in our area to build community through discussion\, worship\, and fun! \nText YOUNGADULTS to 77978 for updates and reminders.
URL:https://cottonwoodcreek.org/event/college-and-young-adult-service/2027-03-16/
LOCATION:Creek Student Building
CATEGORIES:Young Adults
ATTACH;FMTTYPE=image/jpeg:https://cottonwoodcreek.org/wp-content/uploads/2024/02/713_Announcement-Slide_v4.jpg
ORGANIZER;CN="Jake Bechtold":MAILTO:jake.bechtold@cottonwoodcreek.org
END:VEVENT
BEGIN:VEVENT
DTSTART;TZID=America/Chicago:20270323T190000
DTEND;TZID=America/Chicago:20270323T200000
DTSTAMP:20260424T075734
CREATED:20260115T194150Z
LAST-MODIFIED:20260115T194150Z
UID:10011500-1805828400-1805832000@cottonwoodcreek.org
SUMMARY:College and Young Adult Service
DESCRIPTION:If you are looking for a place to connect with other young adults\, the College and Young Adult Service is for you! \nThe College and Young Adult Service happens every Tuesday night at 7 p.m. for young adults in our area to build community through discussion\, worship\, and fun! \nText YOUNGADULTS to 77978 for updates and reminders.
URL:https://cottonwoodcreek.org/event/college-and-young-adult-service/2027-03-23/
LOCATION:Creek Student Building
CATEGORIES:Young Adults
ATTACH;FMTTYPE=image/jpeg:https://cottonwoodcreek.org/wp-content/uploads/2024/02/713_Announcement-Slide_v4.jpg
ORGANIZER;CN="Jake Bechtold":MAILTO:jake.bechtold@cottonwoodcreek.org
END:VEVENT
BEGIN:VEVENT
DTSTART;TZID=America/Chicago:20270330T190000
DTEND;TZID=America/Chicago:20270330T200000
DTSTAMP:20260424T075734
CREATED:20260115T194150Z
LAST-MODIFIED:20260115T194150Z
UID:10011501-1806433200-1806436800@cottonwoodcreek.org
SUMMARY:College and Young Adult Service
DESCRIPTION:If you are looking for a place to connect with other young adults\, the College and Young Adult Service is for you! \nThe College and Young Adult Service happens every Tuesday night at 7 p.m. for young adults in our area to build community through discussion\, worship\, and fun! \nText YOUNGADULTS to 77978 for updates and reminders.
URL:https://cottonwoodcreek.org/event/college-and-young-adult-service/2027-03-30/
LOCATION:Creek Student Building
CATEGORIES:Young Adults
ATTACH;FMTTYPE=image/jpeg:https://cottonwoodcreek.org/wp-content/uploads/2024/02/713_Announcement-Slide_v4.jpg
ORGANIZER;CN="Jake Bechtold":MAILTO:jake.bechtold@cottonwoodcreek.org
END:VEVENT
END:VCALENDAR