BEGIN:VCALENDAR
VERSION:2.0
PRODID:-//Cottonwood Creek Church - ECPv6.15.18//NONSGML v1.0//EN
CALSCALE:GREGORIAN
METHOD:PUBLISH
X-WR-CALNAME:Cottonwood Creek Church
X-ORIGINAL-URL:https://cottonwoodcreek.org
X-WR-CALDESC:Events for Cottonwood Creek Church
REFRESH-INTERVAL;VALUE=DURATION:PT1H
X-Robots-Tag:noindex
X-PUBLISHED-TTL:PT1H
BEGIN:VTIMEZONE
TZID:America/Chicago
BEGIN:DAYLIGHT
TZOFFSETFROM:-0600
TZOFFSETTO:-0500
TZNAME:CDT
DTSTART:20250309T080000
END:DAYLIGHT
BEGIN:STANDARD
TZOFFSETFROM:-0500
TZOFFSETTO:-0600
TZNAME:CST
DTSTART:20251102T070000
END:STANDARD
BEGIN:DAYLIGHT
TZOFFSETFROM:-0600
TZOFFSETTO:-0500
TZNAME:CDT
DTSTART:20260308T080000
END:DAYLIGHT
BEGIN:STANDARD
TZOFFSETFROM:-0500
TZOFFSETTO:-0600
TZNAME:CST
DTSTART:20261101T070000
END:STANDARD
BEGIN:DAYLIGHT
TZOFFSETFROM:-0600
TZOFFSETTO:-0500
TZNAME:CDT
DTSTART:20270314T080000
END:DAYLIGHT
BEGIN:STANDARD
TZOFFSETFROM:-0500
TZOFFSETTO:-0600
TZNAME:CST
DTSTART:20271107T070000
END:STANDARD
END:VTIMEZONE
BEGIN:VEVENT
DTSTART;TZID=America/Chicago:20260418T133000
DTEND;TZID=America/Chicago:20260418T163000
DTSTAMP:20260424T000621
CREATED:20260115T200150Z
LAST-MODIFIED:20260330T175730Z
UID:10012891-1776519000-1776529800@cottonwoodcreek.org
SUMMARY:Creek 55+ Pickleball
DESCRIPTION:Free but donations welcome! Please wear comfortable gym type clothes\, court or Pickleball shoes\, and bring a bottle of water for hydration. We have equipment to learn this sport or bring your own. See you on the courts!
URL:https://cottonwoodcreek.org/event/creek-55-pickleball-2/2026-04-18/
LOCATION:The Gym\, 1015 Sam Rayburn Tollway\, Allen\, TX\, 75013\, United States
CATEGORIES:55+
ATTACH;FMTTYPE=image/png:https://cottonwoodcreek.org/wp-content/uploads/2023/09/Creek55_Pickleball_8.5x11-Desktop-Wallpaper.png
ORGANIZER;CN="Denise Watson":MAILTO:ndw56@yahoo.com
END:VEVENT
BEGIN:VEVENT
DTSTART;TZID=America/Chicago:20260411T133000
DTEND;TZID=America/Chicago:20260411T163000
DTSTAMP:20260424T000621
CREATED:20260115T200150Z
LAST-MODIFIED:20260330T175730Z
UID:10012890-1775914200-1775925000@cottonwoodcreek.org
SUMMARY:Creek 55+ Pickleball
DESCRIPTION:Free but donations welcome! Please wear comfortable gym type clothes\, court or Pickleball shoes\, and bring a bottle of water for hydration. We have equipment to learn this sport or bring your own. See you on the courts!
URL:https://cottonwoodcreek.org/event/creek-55-pickleball-2/2026-04-11/
LOCATION:The Gym\, 1015 Sam Rayburn Tollway\, Allen\, TX\, 75013\, United States
CATEGORIES:55+
ATTACH;FMTTYPE=image/png:https://cottonwoodcreek.org/wp-content/uploads/2023/09/Creek55_Pickleball_8.5x11-Desktop-Wallpaper.png
ORGANIZER;CN="Denise Watson":MAILTO:ndw56@yahoo.com
END:VEVENT
BEGIN:VEVENT
DTSTART;TZID=America/Chicago:20260328T133000
DTEND;TZID=America/Chicago:20260328T163000
DTSTAMP:20260424T000621
CREATED:20260115T200150Z
LAST-MODIFIED:20260330T175730Z
UID:10012888-1774704600-1774715400@cottonwoodcreek.org
SUMMARY:Creek 55+ Pickleball
DESCRIPTION:Free but donations welcome! Please wear comfortable gym type clothes\, court or Pickleball shoes\, and bring a bottle of water for hydration. We have equipment to learn this sport or bring your own. See you on the courts!
URL:https://cottonwoodcreek.org/event/creek-55-pickleball-2/2026-03-28/
LOCATION:The Gym\, 1015 Sam Rayburn Tollway\, Allen\, TX\, 75013\, United States
CATEGORIES:55+
ATTACH;FMTTYPE=image/png:https://cottonwoodcreek.org/wp-content/uploads/2023/09/Creek55_Pickleball_8.5x11-Desktop-Wallpaper.png
ORGANIZER;CN="Denise Watson":MAILTO:ndw56@yahoo.com
END:VEVENT
END:VCALENDAR